BEGIN:VCALENDAR
VERSION:2.0
PRODID:-//jEvents 2.0 for Joomla//EN
CALSCALE:GREGORIAN
METHOD:PUBLISH
BEGIN:VTIMEZONE
TZID:Europe/Stockholm
BEGIN:STANDARD
DTSTART:20250321T000000
RDATE:20250330T030000
TZOFFSETFROM:+0200
TZOFFSETTO:+0100
TZNAME:Europe/Stockholm CET
END:STANDARD
BEGIN:STANDARD
DTSTART:20251026T020000
RDATE:20260329T030000
TZOFFSETFROM:+0200
TZOFFSETTO:+0100
TZNAME:Europe/Stockholm CET
END:STANDARD
BEGIN:STANDARD
DTSTART:20261025T020000
RDATE:20270328T030000
TZOFFSETFROM:+0200
TZOFFSETTO:+0100
TZNAME:Europe/Stockholm CET
END:STANDARD
BEGIN:STANDARD
DTSTART:20271031T020000
RDATE:20280326T030000
TZOFFSETFROM:+0200
TZOFFSETTO:+0100
TZNAME:Europe/Stockholm CET
END:STANDARD
BEGIN:DAYLIGHT
DTSTART:20250330T030000
RDATE:20251026T020000
TZOFFSETFROM:+0100
TZOFFSETTO:+0200
TZNAME:Europe/Stockholm CEST
END:DAYLIGHT
BEGIN:DAYLIGHT
DTSTART:20260329T030000
RDATE:20261025T020000
TZOFFSETFROM:+0100
TZOFFSETTO:+0200
TZNAME:Europe/Stockholm CEST
END:DAYLIGHT
BEGIN:DAYLIGHT
DTSTART:20270328T030000
RDATE:20271031T020000
TZOFFSETFROM:+0100
TZOFFSETTO:+0200
TZNAME:Europe/Stockholm CEST
END:DAYLIGHT
END:VTIMEZONE
BEGIN:VEVENT
UID:6e5915ce5312ef09d13a9fd3cc99013f
CATEGORIES:Skåne
CREATED:20251222T163454
SUMMARY:SkåneM Fält, Landskrona
DESCRIPTION;ENCODING=QUOTED-PRINTABLE:INBJUDAN: SKÅNEMÄSTERSKAPET I FÄLTSKJUTNING 2026\n\nLandskrona Pistolklubb 
 inbjuder, på uppdrag av Kristianstads och Malmöhus pistolskyttekrets, till 
 Skånemästerskap i fältskjutning för vapengrupp C.\n\n\nDatum: Söndagen den 
 22 mars 2026\nInformation om tävlingen\n - \n\nPlats: Landskrona Pistolklub
 b, Mariebergs skyttecentrum.\n\n - \n\nOmfattning: 8 skjutstationer om 6 sk
 ott. Patrullstorlek: 7 personer.\n\n - \n\nVapengrupper: C (Mästerskap), sa
 mt A, B, R.\n\n - \n\nKlassindelning: 1, 2, 3, D1, D2, D3, VY, VÄ, Junior.\
 n\n - \n\nSärskjutning: Särskjutning sker vid lika resultat i vapengrupp C 
 om medaljerna.\n\n - \n\nRegler: Enligt SHB upplaga 21.\nAnmälan och Avgift
 er\n - \n\nFöranmälan: Senast 2026-03-13 via webshooter.\n\n - \n\nStartavg
 ift: 100 kr per start. (Lag: 0 kr).\n\n - \n\nEfteranmälan: 120 kr per star
 t (i mån av plats).\n\n - \n\nBetalning: PG 58 77 24-6. Samordnas av respek
 tive förening. Inbetald avgift återbetalas ej efter sista anmälningsdatum.\
 n\n - \n\nMax starter: Max 2 starter per deltagare.\nPraktisk information\n
  - \n\nVapenkontroll: Ska utföras senast 15 minuter före tilldelad skjuttid
 .\n\n - \n\nVapenförvaring: Vapen SKALL förvaras i väska eller hölster inom
  tävlingsområdet.\n\n - \n\nServering: Kommer att finnas på plats.\n\n - \n
 \nTävlingsledare: Allan Laurin (070-5080088).\n\n - \n\nBanläggare: Fredrik
  Loord.\nVägvisning\n - \n\nFrån väg 1147: Mellan Landskrona och Häljarp, i
 ntill motorvägsviadukten.\n\n - \n\nFrån E6/E20 (Norrifrån): Avfart 25, tag
  höger, vänster i rondell, vänster i andra korsningen.\n\n - \n\nFrån E6/E2
 0 (Söderifrån): Avfart 25 mot Landskrona C, tag höger, vänster i rondell, v
 änster i andra korsningen.\n\n - \n\nGPS-koordinater: N 55° 51′ 849″, E 12°
  52′ 657″\n\n\nLandskrona Pistolklubb hälsar alla pistolskyttar hjärtligt v
 älkomna!\n
DTSTAMP:20260425T234242Z
DTSTART;TZID=Europe/Stockholm;VALUE=DATE:20260322
DTEND;TZID=Europe/Stockholm;VALUE=DATE:20260323
SEQUENCE:0
TRANSP:OPAQUE
END:VEVENT
END:VCALENDAR