BEGIN:VCALENDAR
VERSION:2.0
PRODID:-//jEvents 2.0 for Joomla//EN
CALSCALE:GREGORIAN
METHOD:PUBLISH
BEGIN:VTIMEZONE
TZID:Europe/Stockholm
BEGIN:STANDARD
DTSTART:20251026T020000
RDATE:20260329T030000
TZOFFSETFROM:+0200
TZOFFSETTO:+0100
TZNAME:Europe/Stockholm CET
END:STANDARD
BEGIN:STANDARD
DTSTART:20261025T020000
RDATE:20270328T030000
TZOFFSETFROM:+0200
TZOFFSETTO:+0100
TZNAME:Europe/Stockholm CET
END:STANDARD
BEGIN:STANDARD
DTSTART:20271031T020000
RDATE:20280326T030000
TZOFFSETFROM:+0200
TZOFFSETTO:+0100
TZNAME:Europe/Stockholm CET
END:STANDARD
BEGIN:DAYLIGHT
DTSTART:20250515T000000
RDATE:20251026T020000
TZOFFSETFROM:+0100
TZOFFSETTO:+0200
TZNAME:Europe/Stockholm CEST
END:DAYLIGHT
BEGIN:DAYLIGHT
DTSTART:20260329T030000
RDATE:20261025T020000
TZOFFSETFROM:+0100
TZOFFSETTO:+0200
TZNAME:Europe/Stockholm CEST
END:DAYLIGHT
BEGIN:DAYLIGHT
DTSTART:20270328T030000
RDATE:20271031T020000
TZOFFSETFROM:+0100
TZOFFSETTO:+0200
TZNAME:Europe/Stockholm CEST
END:DAYLIGHT
END:VTIMEZONE
BEGIN:VEVENT
UID:3f17481a09f86eb7b49cb532e06b9c7a
CATEGORIES:Sverige
CREATED:20260312T221309
SUMMARY:SSM Fält - Mörrum
DESCRIPTION;ENCODING=QUOTED-PRINTABLE:Blekinge Pistolskyttekrets\nINBJUDANSYDSVENSKA MÄSTERSKAPENi Fältskjutning 
 16-17 maj 2026\nPå uppdrag av kretsarna i Syd inbjuder Blekinge Pistolskytt
 ekrets till årets mästerskapstävlingar i fältskjutning.\nTID &amp; PLATS\nL
 ördagen den 16 maj: Vapengrupp C och vapengrupp B\nSöndagen den 17 maj: Vap
 engrupp A och vapengrupp R\nPlats: Karlshamns Pk:s skjutbana, Perstorpsväge
 n 65-72, 375 91 Mörrum.\n\n\nVägbeskrivning: Vägvisning från E22 trafikplat
 s 49, Mörrum väst.\nTÄVLINGENS OMFATTNING &amp; STARTTIDER\nOmfattning:&nbs
 p;Enligt bestämmelserna för SSM, 10 stationer.\nStarttider:&nbsp;Kommer att
  synas på webshooter och på kretsens hemsida på adress www.blekingepistol.s
 e under slutet av vecka 19.\nALLMÄNNA BESTÄMMELSER\n\n\nTävlingen är öppen 
 för alla pistolskyttar från den sydsvenska regionen och tillhör förening/kl
 ubb som är ansluten till Svenska Pistolskytteförbundet. Skytt skall med god
 kännande ha genomgått föreskriven utbildning samt erhållit pistolskyttekort
 et. Kortet eller intyg skall på begäran kunna uppvisas.\nTÄVLINGSLEDNING\nT
 ävlingsledare: Pär Karlsson\nTävlingssekreterare:&nbsp;Anna Svärd Olsson/ M
 attias Nilsson\nKassör:&nbsp;Ronny Andersson\nBanläggare:&nbsp;Tomas Adenbr
 ant/ Maria Ernegrund/ Ronny Andersson/ Pär Karlsson\nKLASSER\nInom var och 
 en av vapengrupperna C, B, A, R:\nKlass 3RiksmästareKlass 2Guldmärkesskytta
 rKlass 1Silver- och bronsmärkesskyttarVgrp/KlassA-opt&nbsp; &nbsp; &nbsp;A-
 vapen med optiska riktmedelVgrp/KlassC Dam&nbsp; 1, 2, 3Vgrp/KlassC Vet. Y,
  Vet. Ä och junior&nbsp;&nbsp;Skyttar som deltar i mästerskap C Dam, C Vet.
  Y, C Vet. Ä och C junior kan inte starta i C öppen klass. Skyttar som delt
 ar i A-opt kan inte delta i annan A-klassLAGTÄVLING\n3-mannalag i vapengrup
 perna A, B, R och C.\n2-mannalag i C-dam, C-junior och C-vet Y, C-vet Ä.\n\
 n\n5-mannalag&nbsp;C för de som har minst 5 skyttar i C vapen.\nANMÄLAN\nAn
 mälan: Sker via Webshooter senast den 1 maj 2026.\nEfteranmälan via webshoo
 ter behöver godkännas:\nEfteranmälan tävlingsdagarna i mån av plats senast:
  \nLördag: Vgrp C kl. 09.oo Vgrp B kl. 12.oo \nSöndag Vgrp R kl. 09.oo Vgrp
  A kl. 11.oo\n\nAvgift för efteranmälan: 350kr/start\nSTARTAVGIFTER:\nIndiv
 iduellt: 300 kr per start.\nJunior: 150 kr per start.\nLagavgift: 150 kr pe
 r lag. Ingen avgift tas för 5-mannalag.\n\nBetalning skall ske klubbvis via
  webshooter. Inbetalade anmälningsavgifter återbetalas ej.\n&nbsp;\nVAPEN/ 
 VAPENKONTROLL:\nAv Svenska Pistolskytteförbundet godkända vapen.\nVapenkont
 roll skall vara utförd i god tid före upprop. Stickprovskontroll kan föreko
 mma\n&nbsp;\nPRISER/ PRISUTDELNING:\nIndividuella mästerskapsplaketter enli
 gt SSM-Bestämmelserna i var och en av\nvapengrupperna A, A-opt, B, C, R, C 
 Dam, C VY, C VÄ och C junior.\nMästerskapsplaketter till 3-mannalag enligt 
 SSM-Bestämmelserna i var och en av\nvapengrupperna A, B, C och R samt för 2
 -mannalag i C Dam, C Vet Y/ Ä och C jun.\nIndividuella priser till minst bä
 sta ¼ av skyttarna i varje klass.\nPriserna kommer bestå av presentkort.\nV
 id deltagande av minst: \n3 lag utdelas Guld\n4 lag utdelas Guld, Silver\n5
  lag utdelas Guld, Silver och Brons\n5-mannalag: De föreningar som har mins
 t 5 skyttar i C vapen deltar i 5 mannatävlingen. Ingen avgift tas ut.\nPris
 utdelning: Snarast efter avslutade tävlingar resp. dag. Ej avhämtade priser
  tillfaller arrangören.\n\n\nRESULTATPUBLICERING:\nResultaten kommer föruto
 m på webshooter att läggas upp på www.blekingepistol.se och\näven skickas p
 er mail till kretsarna samt pistolskytteförbundet.\n&nbsp;\nTÄVLINGSLEDNING
  &amp; INFO\nTävlingsledare: Pär Karlsson\nVapenkontroll: Obligatorisk vape
 nkontroll före start. Kontrollen öppnar kl. 07:30.\nJury: Fastställs på täv
 lingsdagen och anslås vid sekretariatet.\n&nbsp;\nTÄVLINGSLEDNING &amp; INF
 O\nTävlingsledare: Pär Karlsson\nVapenkontroll: Obligatorisk vapenkontroll 
 före start. Kontrollen öppnar kl. 07:30.\nJury: Fastställs på tävlingsdagen
  och anslås vid sekretariatet.\nPriser: Mästerskapstecken och penningpriser
  enligt SPSF:s regler.\nSERVERING:&nbsp;Servering kommer finnas på plats. F
 öranmälan för lunch krävs (se bifogad blankett i PDF filen!). Möjligheten a
 tt betala med swish kommer finnas.\nLOGI:&nbsp;Se PDF filen för rekomendati
 oner\nVälkomna till Mörrum / Karlshamn och\nSyd Svenska MÄsterskapen i Fält
 skytte 2026Hälsar klubbarna i Blekinge Pistolskyttekrets\n
DTSTAMP:20260425T201457Z
DTSTART;TZID=Europe/Stockholm;VALUE=DATE:20260516
DTEND;TZID=Europe/Stockholm;VALUE=DATE:20260518
SEQUENCE:0
TRANSP:OPAQUE
END:VEVENT
END:VCALENDAR