BEGIN:VCALENDAR
VERSION:2.0
PRODID:-//jEvents 2.0 for Joomla//EN
CALSCALE:GREGORIAN
METHOD:PUBLISH
BEGIN:VTIMEZONE
TZID:Europe/Stockholm
BEGIN:STANDARD
DTSTART:20251026T020000
RDATE:20260329T030000
TZOFFSETFROM:+0200
TZOFFSETTO:+0100
TZNAME:Europe/Stockholm CET
END:STANDARD
BEGIN:STANDARD
DTSTART:20261025T020000
RDATE:20270328T030000
TZOFFSETFROM:+0200
TZOFFSETTO:+0100
TZNAME:Europe/Stockholm CET
END:STANDARD
BEGIN:STANDARD
DTSTART:20271031T020000
RDATE:20280326T030000
TZOFFSETFROM:+0200
TZOFFSETTO:+0100
TZNAME:Europe/Stockholm CET
END:STANDARD
BEGIN:DAYLIGHT
DTSTART:20250502T000000
RDATE:20251026T020000
TZOFFSETFROM:+0100
TZOFFSETTO:+0200
TZNAME:Europe/Stockholm CEST
END:DAYLIGHT
BEGIN:DAYLIGHT
DTSTART:20260329T030000
RDATE:20261025T020000
TZOFFSETFROM:+0100
TZOFFSETTO:+0200
TZNAME:Europe/Stockholm CEST
END:DAYLIGHT
BEGIN:DAYLIGHT
DTSTART:20270328T030000
RDATE:20271031T020000
TZOFFSETFROM:+0100
TZOFFSETTO:+0200
TZNAME:Europe/Stockholm CEST
END:DAYLIGHT
END:VTIMEZONE
BEGIN:VEVENT
UID:bd9c8589283d31fd3ad6f822a3232377
CATEGORIES:Kristianstadkretsen
CREATED:20260328T092646
SUMMARY:KM Fält B&C
DESCRIPTION;ENCODING=QUOTED-PRINTABLE:På uppdrag av Kristianstads Pistolskyttekrets\nINBJUDAN TILL KRETSMÄSTERSKA
 PFältskjutning Vapengrupp C och BSöndagen den 3 maj 2026\nKlippans Pk och L
 jungbyheds Pk hälsar alla skyttar välkomna till tävling!\nPLATS &amp; PATRU
 LLER\nPlats: Ljungbyheds Pk:s skjutbana. Anmälan sker i klubbstugan.\nPatru
 ller: Första patrull beräknas utgå kl. 08:30.\nOrdning: Vapengrupp C avgörs
  först, därefter vapengrupp B.\nTÄVLINGENS OMFATTNING\nStationer: 8 station
 er om 6 skott i vapengrupperna C och B.\n(Vapengrupp A och R erbjuds i mån 
 av tid).\nVapenkontroll: Ska vara utförd före start!\nKLASSER &amp; LAGTÄVL
 ING\nKlasser: Junior, Öppen C, CDam, CVY, CVÄ samt vapengrupp B.\nLagtävlin
 g i C:\n\n - Junior (2 skyttar)\n - Dam (2 skyttar)\n - Herr (3 skyttar)\n 
 - Vet (2 skyttar)\n - Ej föranmälda 5-mannalagLagtävling i B:\n\n - 2-manna
 lagANMÄLAN &amp; AVGIFTER\nAnmälan: Via Webshooter senast tisdagen den 21 a
 pril.\nIndividuell avgift: 100 kr per start.\nLagavgift: 0 kr.\nBetalning: 
 Sättes in på kretsens konto 462-2718 eller via Swish 123 630 65 34 i samban
 d med anmälan.\nPriser: Jetonger till pallplatserna i C-klasserna och B. Pl
 aketter i lag.\nORGANISATION\nTävlingsledare: Lasse Amnestål, Klippans Pk (
 SMS til: 070-581 38 48).\nJury: Utses på tävlingsdagen.\nServering: Serveri
 ng kommer att finnas på plats.\nKlippans Pk &amp; Ljungbyheds Pk\n
DTSTAMP:20260425T155240Z
DTSTART;TZID=Europe/Stockholm;VALUE=DATE:20260503
DTEND;TZID=Europe/Stockholm;VALUE=DATE:20260504
SEQUENCE:0
TRANSP:OPAQUE
END:VEVENT
END:VCALENDAR