BEGIN:VCALENDAR
VERSION:2.0
PRODID:-//jEvents 2.0 for Joomla//EN
CALSCALE:GREGORIAN
METHOD:PUBLISH
BEGIN:VTIMEZONE
TZID:Europe/Stockholm
BEGIN:STANDARD
DTSTART:20251026T020000
RDATE:20260329T030000
TZOFFSETFROM:+0200
TZOFFSETTO:+0100
TZNAME:Europe/Stockholm CET
END:STANDARD
BEGIN:STANDARD
DTSTART:20261025T020000
RDATE:20270328T030000
TZOFFSETFROM:+0200
TZOFFSETTO:+0100
TZNAME:Europe/Stockholm CET
END:STANDARD
BEGIN:STANDARD
DTSTART:20271031T020000
RDATE:20280326T030000
TZOFFSETFROM:+0200
TZOFFSETTO:+0100
TZNAME:Europe/Stockholm CET
END:STANDARD
BEGIN:DAYLIGHT
DTSTART:20250509T000000
RDATE:20251026T020000
TZOFFSETFROM:+0100
TZOFFSETTO:+0200
TZNAME:Europe/Stockholm CEST
END:DAYLIGHT
BEGIN:DAYLIGHT
DTSTART:20260329T030000
RDATE:20261025T020000
TZOFFSETFROM:+0100
TZOFFSETTO:+0200
TZNAME:Europe/Stockholm CEST
END:DAYLIGHT
BEGIN:DAYLIGHT
DTSTART:20270328T030000
RDATE:20271031T020000
TZOFFSETFROM:+0100
TZOFFSETTO:+0200
TZNAME:Europe/Stockholm CEST
END:DAYLIGHT
END:VTIMEZONE
BEGIN:VEVENT
UID:b56e036ac629c0d65b91e23e6b7a805e
CATEGORIES:Sverige
CREATED:19700101T010000
SUMMARY:Rynketian Ljungbyhed
DESCRIPTION;ENCODING=QUOTED-PRINTABLE:LJUNGBYHEDS PISTOLKLUBBInbjuder till Rynketian!Ljungbyheds PK inbjuder till
  tävling i precision med pistol och revolver söndagen den 10 maj.\nPLATS &a
 mp; TID\nPlats: Ljungbyheds PK skjutbana i Ljungbyhed, Rynke 598.\nGPS-koor
 dinater: Lat. N56, 08 805 Long. E13, 22 049\nSkjuttider: Från kl 8.00.\nOMF
 ATTNING &amp; REGLER\nOmfattning: Precisionsskjutning omfattande provserie 
 och 10 tävlingsserier.\nSkjuttid: 5 minuters skjuttid per serie. 5 minuters
  förberedelsetid.\nRegler: Enligt Svenska Pistolskytteförbundets skjuthandb
 ok. Vapenförvaring i väska.\nVapen: Av Svenska Pistolskytteförbundet godkän
 da. Vapenkontroll: stickprov.\nKLASSER\n\n - A och B: klass 1, 2 och 3.\n -
  C: klass 1, 2, 3, D1, D2, D3, Junior, Vet Y och Vet Ä.ANMÄLAN &amp; AVGIFT
 ER\nAnmälan: Sker via webshooter.se senast fredagen den 1 maj.\nStartavgift
 : 100 kr/start. Max två starter per deltagare, i mån av plats.\nÖvrigt: Eve
 ntuella önskemål noteras vid anmälan. Efteranmälningar måste godkännas. Anm
 älan är ett godkännande för publicering av resultatlistan.\nÖVRIG INFORMATI
 ON\nInbjudna: Föreningar anslutna till L-kretsen eller angränsande kretsar.
 \nPriser: Inga prispengar. Vi tävlar om standardmedaljer och äran.\nJury: A
 nslås på tävlingsdagen.\nServering: Finns tillgänglig.\nAnsvarig: Ljungbyhe
 ds Pistolklubbs styrelse.\nTävlingsledare: Conny Nilsson, 0730-788207.\n
DTSTAMP:20260425T190211Z
DTSTART;TZID=Europe/Stockholm;VALUE=DATE:20260510
DTEND;TZID=Europe/Stockholm;VALUE=DATE:20260511
SEQUENCE:0
TRANSP:OPAQUE
END:VEVENT
END:VCALENDAR